 BEGIN:VCALENDAR
VERSION:2.0
PRODID:-//LA COMUNICACIÓN DEL VALOR - IV Jornadas de Responsabilidad Social Corporativa - ECPv6.15.20//NONSGML v1.0//EN
CALSCALE:GREGORIAN
METHOD:PUBLISH
X-ORIGINAL-URL:https://www.lacomunicaciondelvalor.es
X-WR-CALDESC:Eventos para LA COMUNICACIÓN DEL VALOR - IV Jornadas de Responsabilidad Social Corporativa
REFRESH-INTERVAL;VALUE=DURATION:PT1H
X-Robots-Tag:noindex
X-PUBLISHED-TTL:PT1H
BEGIN:VTIMEZONE
TZID:UTC
BEGIN:STANDARD
TZOFFSETFROM:+0000
TZOFFSETTO:+0000
TZNAME:UTC
DTSTART:20150101T000000
END:STANDARD
END:VTIMEZONE
BEGIN:VEVENT
DTSTART;VALUE=DATE:20190522
DTEND;VALUE=DATE:20190524
DTSTAMP:20260422T143840
CREATED:20190103T170440Z
LAST-MODIFIED:20190620T185234Z
UID:5920-1558483200-1558655999@www.lacomunicaciondelvalor.es
SUMMARY:IV Jornadas de Responsabilidad Social Corporativa LA COMUNICACIÓN DEL VALOR
DESCRIPTION:[vc_row][vc_column][vc_tta_tabs style=»flat» shape=»square» color=»white» spacing=»» active_section=»1″ no_fill_content_area=»true» el_class=»pestanas»][vc_tta_section title=»Evento» tab_id=»1485178171485-9d6cf363-e733″][vc_column_text] \nLA COMUNICACIÓN DEL VALOR es el encuentro de profesionales y marcas responsables que inició el Instituto Internacional de Ciencias Políticas en 2016 y\, desde 2019\, organiza y promueve el Instituto Internacional del Valor Compartido\, contando con La Obra Social “La Caixa” como entidad colaboradora principal y la Fundación Universitaria San Pablo CEU\, como entidad educativa colaboradora. \nLA COMUNICACIÓN DEL VALOR celebra sus IV Jornadas de Responsabilidad Social Corporativa en CaixaForum Madrid\, los días 22 y 23 de mayo de 2019\, desde las 10:00 horas a las 14:30 horas\, afín al horario de conciliación familiar. \n  \n[/vc_column_text][vc_cta h2=»¿Quieres asistir a las Jornadas?» shape=»square» style=»flat» add_button=»right» btn_title=»INSCRÍBETE» btn_style=»flat» btn_shape=»square» btn_color=»warning» btn_size=»lg» btn_align=»right» btn_link=»url:https%3A%2F%2Fwww.eventbrite.es%2Fe%2Fiv-jornadas-de-responsabilidad-social-corporativa-la-comunicacion-del-valor-tickets-53305700786%23tickets||target:%20_blank|» btn_el_class=»boton_inscribete»][/vc_cta][/vc_tta_section][vc_tta_section title=»Galería» tab_id=»1485178171684-17b3dde2-37f3″][vc_column_text] \nDisfruta de los contenidos multimedia de nuestras jornadas de Responsabilidad Social Corporativa LA COMUNICACIÓN DEL VALOR. Te invitamos a compartirlos y divulgarlos a través de las redes sociales para que nuestra iniciativa llegue lo más lejos posible. Muchas gracias. \n[/vc_column_text][vc_empty_space height=»20px»][vc_media_grid element_width=»3″ grid_id=»vc_gid:1561055983908-74284f93-efc5-3″ include=»6269\,6270\,6271\,6272\,6273\,6274\,6275\,6276\,6277\,6278\,6279\,6280\,6281\,6282\,6283\,6284\,6285\,6286\,6287\,6288\,6289\,6290\,6291\,6292\,6293\,6294\,6295\,6296\,6297\,6298\,6299\,6300\,6301\,6302\,6303\,6304\,6305\,6306\,6307\,6308\,6309\,6310\,6311\,6312\,6313\,6314\,6315\,6316\,6317\,6318\,6319\,6320\,6321\,6322\,6323\,6324\,6325\,6326\,6327\,6328\,6329\,6330\,6331\,6332\,6333\,6334\,6335\,6336\,6337\,6338\,6339\,6340\,6341\,6342\,6343\,6344\,6345\,6346\,6347\,6348\,6349\,6350\,6351\,6352\,6353\,6354\,6355\,6356\,6357\,6358\,6359\,6360\,6361\,6362\,6363\,6364\,6365\,6366\,6367\,6368\,6369\,6370\,6371\,6372\,6373\,6374\,6375\,6376\,6377\,6378\,6379\,6380\,6381\,6382\,6383\,6384\,6385\,6386\,6387\,6388\,6389\,6390\,6391\,6392\,6393\,6394\,6395\,6396″][/vc_tta_section][vc_tta_section title=»Vídeos» tab_id=»1528874047361-8fd40bc0-feee»][/vc_tta_section][vc_tta_section title=»Prensa» tab_id=»1485181194825-c7fc1549-8a26″][vc_column_text] \nQueremos facilitarles el trabajo a los profesionales de los medios de comunicación y a todas aquellas personas que deseen hacerse eco de nuestras jornadas de Responsabilidad Social Corporativa LA COMUNICACIÓN DEL VALOR. Si precisas más información puedes escribirnos a prensa@lacomunicaciondelvalor.es \n[/vc_column_text][/vc_tta_section][/vc_tta_tabs][vc_row_inner][vc_column_inner][rev_slider_vc alias=»slider-premio»][/vc_column_inner][/vc_row_inner][/vc_column][/vc_row]
URL:https://www.lacomunicaciondelvalor.es/evento/evento/
LOCATION:CaixaForum Madrid\, Paseo del Prado 36\, Madrid\, Madrid\, 28014\, España
ATTACH;FMTTYPE=image/jpeg:https://www.lacomunicaciondelvalor.es/wp-content/uploads/2015/11/imagen_evento_tercerass_jornadas.jpg
ORGANIZER;CN="Instituto Internacional del Valor Compartido":MAILTO:info@lacomunicaciondelvalor.es
END:VEVENT
BEGIN:VEVENT
DTSTART;VALUE=DATE:20180528
DTEND;VALUE=DATE:20180530
DTSTAMP:20260422T143840
CREATED:20151112T013440Z
LAST-MODIFIED:20190325T190253Z
UID:5094-1527465600-1527638399@www.lacomunicaciondelvalor.es
SUMMARY:III Jornadas de Responsabilidad Social Corporativa LA COMUNICACIÓN DEL VALOR
DESCRIPTION:[vc_row][vc_column][vc_tta_tabs style=»flat» shape=»square» color=»white» spacing=»» active_section=»1″ no_fill_content_area=»true» el_class=»pestanas»][vc_tta_section title=»Organización» tab_id=»1485178171485-9d6cf363-e733″][vc_column_text] \nEn mayo de 2018 volvimos a reunirnos en el entorno privilegiado que nos cede anualmente CaixaForum de Madrid. \n  \nContamos\, una vez más\, con La Obra Social “La Caixa”\, como entidad colaboradora principal\, y la Fundación Universitaria San Pablo CEU\, como entidad educativa colaboradora. \n  \nDisfrutamos de las ponencias de Telefónica\, Hospital 12 de Octubre\, Emov España\, LUSH España\, Coca-Cola\, Momoc Shoes\, JP Media\, Fundación Universitaria San Pablo CEU\, Garrigues y Grupo Iberdrola. \n  \nDisfrutamos de dos interesantes pausas para networking en las que\, como cada año\, obsequiamos a personas inscritas\, invitadas y ponentes con aperitivos de fabricación responsable traídos expresamente para la ocasión. \n  \nOrganizamos la mesa redonda «El despilfarro de alimentos; estado de la cuestión\, soluciones y modelos de desarrollo»\, con Marcas de Restauración\, Grupo Parlamentario Socialista\, FESBAL y ASGECO\, que nos dejó grandes momentos y reflexiones para continuar comentando y compartiendo. \n  \nEntregamos el II PREMIO LA COMUNICACIÓN DEL VALOR PARA PYMES a SOCIOGRAPH Marketing Science\, que nos habló en su intervención de las últimas tecnologías en materia de medición de reacciones emocionales e impactos en los públicos de una marca o evento. ¿Y sabes qué? Este año\, los profesionales de SOCIOGRAPH nos acompañarán en el desarrollo de las jornadas y\, como especialistas científicos del campo de las emociones humanas\, realizarán un estudio en el público asistente\, a través de una herramienta única capaz de medir de forma grupal el impacto de un estímulo. Quieres verlo in situ\, ¿verdad? \n  \nPuedes encontrar todas estas grandes aportaciones de profesionales y marcas pioneras en nuestro canal de Youtube\, ¡no lo olvides! Grabamos cada edición para que no te pierdas nada y para que puedas disponer de este material en futuras clases\, encuentros o ponencias de RSC. Lo que está por venir… Todas las sorpresas de 2019\, el estudio de SOCIOGRAPH\, las nuevas ponencias\, la presentación de nuestro segundo libro\, nuevas mesas redondas\, espectáculos vinculados a la RS y mucho más ¡En vivo en nuestras jornadas! \n  \n22 y 23 de mayo de 2019 en CaixaForum Madrid. Reconstruyamos la teoría\, hablemos de experiencia. \n[/vc_column_text][/vc_tta_section][vc_tta_section title=»Galería» tab_id=»1485178171684-17b3dde2-37f3″][vc_column_text] \nDisfruta de los contenidos multimedia de nuestras jornadas de Responsabilidad Social Corporativa LA COMUNICACIÓN DEL VALOR. Te invitamos a compartirlos y divulgarlos a través de las redes sociales para que nuestra iniciativa llegue lo más lejos posible. Muchas gracias. \nFotografías de Matías Pérez Llera. \n[/vc_column_text][vc_empty_space height=»20px»][vc_media_grid element_width=»3″ grid_id=»vc_gid:1550608003117-139977a4-0e73-3″ include=»5858\,5846\,5847\,5860\,5859\,5848\,5849\,5850\,5851\,5853\,5861\,5854\,5855\,5856\,5857\,5862\,5863\,5864\,5865\,5866\,5867\,5868\,5869\,5870\,5871\,5872\,5873\,5874\,5875\,5876\,5877\,5878\,5879\,5880\,5881\,5882\,5883\,5884\,5885\,5886\,5887\,5888\,5889\,5890\,5891\,5892\,5893\,5894\,5895\,5896\,5897\,5898\,5899\,5900\,5901\,5902\,5903\,5904\,5905\,5906″][/vc_tta_section][vc_tta_section title=»Vídeos» tab_id=»1528874047361-8fd40bc0-feee»][vc_column_text] \nSorry\, there was a YouTube error.\n[/vc_column_text][/vc_tta_section][vc_tta_section title=»Prensa» tab_id=»1485181194825-c7fc1549-8a26″][vc_column_text] \nQueremos facilitarles el trabajo a los profesionales de los medios de comunicación y a todas aquellas personas que deseen hacerse eco de nuestras jornadas de Responsabilidad Social Corporativa LA COMUNICACIÓN DEL VALOR. Si precisas más información puedes escribirnos a prensa@lacomunicaciondelvalor.es \n[/vc_column_text][/vc_tta_section][/vc_tta_tabs][/vc_column][/vc_row]
URL:https://www.lacomunicaciondelvalor.es/evento/terceras-jornadas-responsabilidad-social-corporativa-la-comunicacion-del-valor/
LOCATION:CaixaForum Madrid\, Paseo del Prado 36\, Madrid\, Madrid\, 28014\, España
CATEGORIES:jornadas anteriores
ATTACH;FMTTYPE=image/jpeg:https://www.lacomunicaciondelvalor.es/wp-content/uploads/2015/11/imagen_evento_tercerass_jornadas.jpg
ORGANIZER;CN="Instituto Internacional de Ciencias Pol%C3%ADticas":MAILTO:info@lacomunicaciondelvalor.es
END:VEVENT
BEGIN:VEVENT
DTSTART;VALUE=DATE:20170509
DTEND;VALUE=DATE:20170511
DTSTAMP:20260422T143840
CREATED:20151112T013440Z
LAST-MODIFIED:20190213T190300Z
UID:5665-1494288000-1494460799@www.lacomunicaciondelvalor.es
SUMMARY:II Jornadas de Responsabilidad Social Corporativa LA COMUNICACIÓN DEL VALOR
DESCRIPTION:[vc_row][vc_column][vc_tta_tabs style=»flat» shape=»square» color=»white» spacing=»» active_section=»1″ no_fill_content_area=»true» el_class=»pestanas»][vc_tta_section title=»Organización» tab_id=»1485178171485-9d6cf363-e733″][vc_column_text] \nCaixaForum de Madrid acogió nuestra segunda edición de LA COMUNICACIÓN DEL VALOR\, en mayo de 2017\, contando con La Obra Social “La Caixa”\, como entidad colaboradora principal\, y la Fundación Universitaria San Pablo CEU\, como entidad educativa colaboradora. \n  \nUn año más\, tuvimos el honor de contar con los buenos deseos de Su Majestad Felipe VI\, Rey de España\, y Don Isidre Fainé\, que hicieron llegar sus palabras a través de dos comunicados personales que transmitimos a todos los asistentes en el acto de inauguración. \n  \nEn el primer día del evento disfrutamos de las ponencias de Red Eléctrica de España\, Kellogg Company\, Alares\, Orange España\, LUSH España\, Metro de Madrid y Spainsif. Tuvimos la oportunidad de conocer los detalles de programas de RSC tan relevantes en España como Todos a desayunar de Kelloggs\, que desde 2011 ha donado más de 236.000 desayunos a colegios españoles\, y LARA de Metro de Madrid\, centrado en un transporte público inclusivo que le aporta autonomía y seguridad a las personas con discapacidad intelectual y del desarrollo. También pudimos reflexionar sobre las realidades de las personas con autismo\, gracias Orange España y su extensa trayectoria dedicada a este colectivo\, y descubrir los orígenes de proyectos de envergadura internacional que apoyan causas socialmente silenciadas\, como es el caso de Charity Pot España de LUSH. Con Alares y Red Eléctrica de España\, ahondamos en la importancia de la conciliación\, la gestión del clima laboral\, la gestión de la discapacidad y la creación de nuevas y mejores oportunidades de autorrealización. Por último\, de la mano de Spainsif\, tomamos anotaciones sobre la actualidad y los pronósticos de la Inversión Socialmente Responsable. \n  \nEn el segundo día del evento contamos con la presencia de JP Media Consultoría y Análisis Internacional\, Corporate Excellence\, Gas Natural fenosa\, Museo Lázaro Galdiano\, Los 18 World Tour\, Cátedra de Ética Económica y Empresarial – ICADE y Red Española del Pacto Mundial. \n  \nLos expertos académicos de Corporate Excellence e ICADE expusieron reflexiones críticas hacia los medios de comunicación\, las organizaciones políticas y la visión empresarial. También nos brindaron análisis de interés\, como la evolución de la confianza en las empresas\, desde 2008 hasta nuestros días\, o las dificultades que atañen a la gestión de la comunicación del valor. \n  \nDescubrimos programas de Responsabilidad Social que fomentan valores desde la perspectiva del arte y el patrimonio cultural\, como los casos Entender el arte y Generaciones en juego\, del Museo Lázaro Galdiano. Además\, conocimos los detalles de la aventura solidaria de Los 18 World Tour y la estrategia y metodología que sustentan el modelo de sostenibilidad de Gas Natural Fenosa\, compañía cotizada que lidera cada año índices internacionales de sostenibilidad. También disfrutamos de un enfoque de la Responsabilidad Social centrado en la capacidad de crear bienestar y cultura corporativa\, de la mano de JP Media Consultoría y Análisis internacional\, empresa premiada en 2017 y en 2016 por sus iniciativas en materia de igualdad e innovación. \n  \nClausuramos la ronda de ponencias con los objetivos y la agenda del Pacto Mundial\, explicados por Ángel Pes Guixa. Y llegamos finalmente a uno de los momentos más esperados de este encuentro: la entrega de galardones del I PREMIO LA COMUNICACIÓN DEL VALOR PARA PYMES. \n  \nLa empresa TECON SOLUCIONES INFORMÁTICAS\, recibió el accésit con mención especial por su plan de igualdad entre hombres y mujeres. Jabones Beltrán recibó el accésit con mención especial por sus políticas medioambientales y sociales y su código ético. Macarena López-Cordón Fresno y Beatriz de Andrés\, CEOS de SoulEM y Art Marketing\, las dos empresas premiadas\, subieron al atril para exponer sus proyectos de Responsabilidad Social Corporativa y nos emocionaron con dos intervenciones magistrales que reafirmaban el papel de la PYME como motor de cambio social y económico. \n  \nLos días 28 y 29 de mayo de 2018 volvemos a compartir y crear experiencia en este encuentro anual que tantas satisfacciones y crecimiento nos está aportando. Contamos contigo. Juntos creamos valor. \n[/vc_column_text][/vc_tta_section][vc_tta_section title=»Galería» tab_id=»1485178171684-17b3dde2-37f3″][vc_column_text] \nDisfruta de los contenidos multimedia de nuestras jornadas de Responsabilidad Social Corporativa LA COMUNICACIÓN DEL VALOR. Te invitamos a compartirlos y divulgarlos a través de las redes sociales para que nuestra iniciativa llegue lo más lejos posible. Muchas gracias. \n[/vc_column_text][vc_media_grid element_width=»3″ grid_id=»vc_gid:1550084515911-c362b5b5-f864-1″ include=»5465\,5466\,5467\,5468\,5469\,5470\,5471\,5472\,5473\,5474\,5475\,5476\,5477\,5483\,5482\,5484\,5485\,5486\,5489\,5488\,5490\,5491\,5492\,5495\,5494\,5496\,5497\,5498\,5501\,5500\,5502\,5503\,5504\,5506\,5507\,5508\,5510\,5509\,5513\,5512\,5514\,5515\,5516\,5518\,5517\,5519\,5520\,5521\,5524\,5523\,5525\,5526\,5527\,5529\,5528\,5530\,5531\,5532\,5535\,5534\,5536\,5537\,5538\,5540\,5539\,5541\,5542\,5543\,5546\,5545\,5547\,5548\,5549\,5551\,5550\,5552\,5553\,5554\,5556\,5557\,5558\,5559\,5560\,5561\,5562\,5563\,5564\,5565\,5583\,5567\,5568\,5569\,5570\,5571\,5572\,5573\,5574\,5575\,5576\,5577\,5578\,5579\,5580\,5581\,5582\,5592\,5593\,5594\,5595\,5596\,5597\,5598\,5586\,5587\,5588\,5589\,5590\,5591\,5599\,5600″][/vc_tta_section][vc_tta_section title=»Prensa» tab_id=»1485181194825-c7fc1549-8a26″][vc_column_text] \nQueremos facilitarles el trabajo a los profesionales de los medios de comunicación y a todas aquellas personas que deseen hacerse eco de nuestras jornadas de Responsabilidad Social Corporativa LA COMUNICACIÓN DEL VALOR. Si precisas más información puedes escribirnos a prensa@lacomunicaciondelvalor.es \n[/vc_column_text][/vc_tta_section][/vc_tta_tabs][vc_row_inner][vc_column_inner][/vc_column_inner][/vc_row_inner][/vc_column][/vc_row]
URL:https://www.lacomunicaciondelvalor.es/evento/segundas-jornadas-responsabilidad-social-corporativa-la-comunicacion-del-valor/
LOCATION:CaixaForum Madrid\, Paseo del Prado 36\, Madrid\, Madrid\, 28014\, España
CATEGORIES:jornadas anteriores
ATTACH;FMTTYPE=image/jpeg:https://www.lacomunicaciondelvalor.es/wp-content/uploads/2015/11/imagen_evento_segundas_jornadas.jpg
ORGANIZER;CN="Instituto Internacional de Ciencias Pol%C3%ADticas":MAILTO:info@lacomunicaciondelvalor.es
END:VEVENT
BEGIN:VEVENT
DTSTART;VALUE=DATE:20160316
DTEND;VALUE=DATE:20160318
DTSTAMP:20260422T143840
CREATED:20151112T013440Z
LAST-MODIFIED:20170314T114606Z
UID:1031-1458086400-1458259199@www.lacomunicaciondelvalor.es
SUMMARY:Primeras Jornadas de Responsabilidad Social Corporativa LA COMUNICACIÓN DEL VALOR
DESCRIPTION:[vc_row][vc_column][vc_tta_tabs style=»flat» shape=»square» color=»white» spacing=»» active_section=»1″ no_fill_content_area=»true» el_class=»pestanas»][vc_tta_section title=»Resumen» tab_id=»1485178171485-9d6cf363-e733″][vc_column_text] \nCaixaForum de Madrid acogió nuestra primera edición de LA COMUNICACIÓN DEL VALOR\, en marzo de 2016\, contando con La Obra Social “La Caixa”\, como entidad colaboradora principal\, y la Fundación Universitaria San Pablo CEU\, como entidad educativa colaboradora. También se unieron al proyecto la Asociación Española del Pacto Mundial de Naciones Unidas\, la Fundación CODESPA y la Asociación de Usuarios de Comunicación – AUC. \n  \nDisfrutamos de las ponencias y casos de éxito que nos brindaron Albert Riera Sans (Director de Comunicación y de Relaciones Institucionales de la Fageda); Alejandro Perales Albert (Presidente de la Asociación de Usuarios de la Comunicación); Antonio Fuertes Zurita (Responsable de Reputación y Sostenibilidad de Gas Natural Fenosa); Belén Perales Martín (Directora de Responsabilidad Social Corporativa de IBM en España); Encarna Guirao (Directora de Recursos Humanos\, Responsabilidad Social y Comunicación Corporativa de Hero España); Francisco Hevia (Director de Responsabilidad Corporativa y Comunicación de Grupo Calidad Pascual); José Eduardo González Martínez (Director General y Director de Relaciones Institucionales y Comunicación de Laboratorios Farmacéuticos ROVI); Margarita Jerez (Fundadora y Socia-Directora de JP Media); Beatriz Herrera de Miguel (Directora de Responsabilidad Corporativa y Fundación de Mahou San Miguel);  Àngel Pes Guixa (Subdirector General y Director de Responsabilidad Corporativa y Marca de CaixaBank); Juan de la Cruz Ferrer (Vocal del Patronato de la Fundación CODESPA) y José Guerra Cabrera (Director de Comunicación Suez Water Spain). \n  \nLas ponencias\, que trasladaron la innovación en Responsabilidad Social Corporativa en clave de experiencias reales\, estuvieron distribuidas en sesiones de veinte minutos. A medio día tuvimos un amplio descanso para entablar diálogo e intercambiar ideas mientras tomábamos aperitivos de fabricación responsable. Otro elemento de gran valor\, que volveremos a repetir\, fue el debate y la reflexión en mesas redondas en las que los ponentes respondieron a preguntas y cuestiones relevantes sobre la visión de la RSC del SXXI y la actualidad de nuestro país. \n  \nLos principales medios nacionales se hicieron eco de este encuentro\, que contó con cobertura completa a través de nuestras cuentas de Facebook\, Twitter y Streaming para toda la comunidad hispanohablante. \n  \nLas instalaciones de CaixaForum de Madrid nos facilitaron un entorno cálido y profesional en el que compartir y concentrarnos\, apartados del ajetreo cotidiano\, rodeados de personas comprometidas con una RSC singular\, creativa y eficaz. Contamos con 140 inscritos presenciales y 75 inscritos vía Streaming\, entre los que destacamos\, por su alto compromiso y conocimiento de la temática\, representantes de las siguientes empresas y organizaciones: Cadena de Valor\, Com4HD\, UNAF\, Estrategia&Responsabilidad\, Cámara de Comercio de Cantabria\, Universidad de Granada\, Famosa\, EOSA consultoría\, RTVE\, PORTAGE\, Rem Comunicación\, Ministerio de Fomento\, Comunidad de Madrid\, IESE\, Helpingbydoing\, Sostenibilidad&Excelencia\, Save The Children\, The Briefers\, Ayuntamiento de Málaga\, Fundación Plena Inclusión Castilla-La Mancha. \n  \nUn entusiasta equipo\, formado por alumnas y alumnos del Máster de Relaciones Públicas y Organización de Eventos de La Universidad San Pablo CEU\, se encargó de recibir a cada asistente  y entregarle su acreditación\, su carpeta de mano y su bolígrafo con puntero -todos estos\, elementos fabricados con materiales reciclados o de fabricación responsable-. Estuvieron atentos en todo momento a las necesidades de cada jornada y volveremos a contar este año con su exquisita disposición y su pasión por la gestión de eventos. Nos enorgullece formar parte de su aprendizaje y que ellas y ellos formen parte de los valores que queremos destacar en estas jornadas de Responsabilidad Social Corporativa LA COMUNICACIÓN DEL VALOR. \n  \nEste año volveremos a reconstruir la teoría y hablar de experiencia\, en las privilegiadas instalaciones de CaixaForum\, con la presencia y participación de empresas comprometidas que contribuyen a generar entornos sostenibles. Incluiremos nuevas sorpresas\, como la entrega del primer PREMIO LA COMUNICACIÓN DEL VALOR PARA PYMES o la presentación del proyecto de nuestro libro de casos de éxito\, y nos gustaría que vivieras todo ello en primera persona. Estos 9 y 10 de Mayo\, en CaixaForum de Madrid\, vuelve a haber un lugar para ti\, con tu acreditación\, tu material -para que tomes nota de lo que consideres- y un diploma que certifica el aprovechamiento de este encuentro. \n  \nDeseamos que lo disfrutes con la misma ilusión que nosotros hemos volcado. \n  \nNos vemos el 9 y 10 de mayo. \n[/vc_column_text][/vc_tta_section][vc_tta_section title=»Galería» tab_id=»1485178171684-17b3dde2-37f3″][vc_media_grid element_width=»3″ grid_id=»vc_gid:1489493976698-ede9788f-7cdd-1″ include=»4871\,4870\,4872\,4873\,4874\,4875\,4876\,4877\,4899\,4900\,4901\,4902\,4903\,4904\,4905\,4906\,4907\,4908\,4909\,4910\,4911\,4912\,4913\,4914\,4915\,4916\,4917\,4918\,4919\,4920\,4921\,4922\,4923\,4924\,4925\,4926\,4927\,4928\,4929\,4930\,4931\,4932\,4933\,4934\,4935\,4936\,4937\,4938\,4939\,4940\,4941\,4942\,4943\,4944\,4945\,4946\,4947\,4948\,4949\,4950\,4951\,4952\,4953\,4954\,4955\,4956\,4957\,4958\,4959\,4960\,4961\,4962\,4963\,4964\,4965\,4966\,4967\,4968\,4969\,4970\,4971\,4972\,4973\,4974\,4975\,4976\,4977\,4978\,4979\,4980\,4981\,4982\,4983\,4984\,4985″][/vc_tta_section][vc_tta_section title=»Vídeos» tab_id=»1485181194825-c7fc1549-8a26″][vc_column_text] Sorry\, there was a YouTube error. [/vc_column_text][/vc_tta_section][/vc_tta_tabs][/vc_column][/vc_row]
URL:https://www.lacomunicaciondelvalor.es/evento/primeras-jornadas-responsabilidad-social-corporativa-la-comunicacion-del-valor/
LOCATION:CaixaForum Madrid\, Paseo del Prado 36\, Madrid\, Madrid\, 28014\, España
CATEGORIES:jornadas anteriores
ATTACH;FMTTYPE=image/jpeg:https://www.lacomunicaciondelvalor.es/wp-content/uploads/2015/11/LA-COMUNICACION-DEL-VALOR-1.jpg
ORGANIZER;CN="Instituto Internacional de Ciencias Pol%C3%ADticas":MAILTO:info@lacomunicaciondelvalor.es
END:VEVENT
END:VCALENDAR